BEGIN:VCALENDAR
VERSION:2.0
PRODID:-//ORA Trails - ECPv5.0.2.1//NONSGML v1.0//EN
CALSCALE:GREGORIAN
METHOD:PUBLISH
X-WR-CALNAME:ORA Trails
X-ORIGINAL-URL:https://www.oratrails.org
X-WR-CALDESC:Events for ORA Trails
BEGIN:VTIMEZONE
TZID:America/Chicago
BEGIN:DAYLIGHT
TZOFFSETFROM:-0600
TZOFFSETTO:-0500
TZNAME:CDT
DTSTART:20190310T080000
END:DAYLIGHT
BEGIN:STANDARD
TZOFFSETFROM:-0500
TZOFFSETTO:-0600
TZNAME:CST
DTSTART:20191103T070000
END:STANDARD
END:VTIMEZONE
BEGIN:VEVENT
DTSTART;TZID=America/Chicago:20190625T173000
DTEND;TZID=America/Chicago:20190625T190000
DTSTAMP:20260422T093701
CREATED:20190524T024830Z
LAST-MODIFIED:20190524T025658Z
UID:969-1561483800-1561489200@www.oratrails.org
SUMMARY:Tuesday Night Trail Work at Lower Hixon
DESCRIPTION:We will be working on Oak Trail. Meet at the second landing parking lot on Bliss Road. \nIf you use the trails\, consider volunteering to help with trail maintenance. Please wear appropriate clothing suitable for working outdoors. This includes pants (not shorts)\, sturdy footwear\, and bring a willingness to sweat and have fun! ORA will provide tools\, refreshments\, a safety talk\, and fun. \nSign the online waiver here  before the event and save some time. You only have to sign once a year. \nWant to help with trail work but don’t want to get down and dirty? Help us get waivers signed and volunteers checked in so the Crew Leaders can focus on fixing trails instead of pushing paper. If you’re interested\, please view and sign up for spots here. \nMonitor the Facebook event for updates. \n
URL:https://www.oratrails.org/event/tuesday-night-trail-work-at-lower-hixon-3/
END:VEVENT
END:VCALENDAR