BEGIN:VCALENDAR
VERSION:2.0
PRODID:-//ORA Trails - ECPv5.0.2.1//NONSGML v1.0//EN
CALSCALE:GREGORIAN
METHOD:PUBLISH
X-WR-CALNAME:ORA Trails
X-ORIGINAL-URL:https://www.oratrails.org
X-WR-CALDESC:Events for ORA Trails
BEGIN:VTIMEZONE
TZID:America/Chicago
BEGIN:DAYLIGHT
TZOFFSETFROM:-0600
TZOFFSETTO:-0500
TZNAME:CDT
DTSTART:20200308T080000
END:DAYLIGHT
BEGIN:STANDARD
TZOFFSETFROM:-0500
TZOFFSETTO:-0600
TZNAME:CST
DTSTART:20201101T070000
END:STANDARD
END:VTIMEZONE
BEGIN:VEVENT
DTSTART;TZID=America/Chicago:20200627T100000
DTEND;TZID=America/Chicago:20200627T160000
DTSTAMP:20260424T153814
CREATED:20200226T173035Z
LAST-MODIFIED:20200226T181636Z
UID:1337-1593252000-1593273600@www.oratrails.org
SUMMARY:Saturday Trail Work
DESCRIPTION:Many people have requested a weekend trail work day\, and we heard you! Join us at Upper Hixon parking lot for a day of fun in the forest. Crew leaders\, tools\, refreshments and safety talk all provided by ORA. There will be food\, music and pump track fun during and after the event. \n
URL:https://www.oratrails.org/event/saturday-trail-work/
LOCATION:Upper Hixon\, N2788 Cty Rd FA\, La Crosse\, WI\, 54601\, United States
CATEGORIES:Family Fun
ORGANIZER;CN="Outdoor%20Recreation%20Alliance":MAILTO:contact@oratrails.org
END:VEVENT
END:VCALENDAR